BEGIN:VCALENDAR
VERSION:2.0
PRODID:-//mWEB//NONSGML mWEB//NB
URL:https://www.beroa.no/kalender/ics
X-WR-CALNAME:Berøa Langåker
REFRESH-INTERVAL;VALUE=DURATION:PT6H
X-PUBLISHED-TTL:PT6H    
CALSCALE:GREGORIAN
BEGIN:VEVENT
UID:beroa.no-3236
DTSTAMP:20260420T173518Z
DTSTART:20250821T173000Z
DTEND:20250821T190000Z
URL:https://www.beroa.no/kalender/2025/08/21/bibellesning/3236/
CREATED:20250626T190349Z
LAST-MODIFIED:20250626T190350Z
SUMMARY:Bibellesning
DESCRIPTION:\n\nhttps://www.beroa.no/kalender/2025/08/21/bibellesning/3236/
END:VEVENT

END:VCALENDAR