BEGIN:VCALENDAR
VERSION:2.0
PRODID:-//mWEB//NONSGML mWEB//NB
URL:https://www.beroa.no/kalender/ics
X-WR-CALNAME:Berøa Langåker
REFRESH-INTERVAL;VALUE=DURATION:PT6H
X-PUBLISHED-TTL:PT6H    
CALSCALE:GREGORIAN
BEGIN:VEVENT
UID:beroa.no-3270
DTSTAMP:20260420T174319Z
DTSTART:20250823T120000Z
DTEND:20250823T133000Z
URL:https://www.beroa.no/kalender/2025/08/23/privat-arr/3270/
CREATED:20250715T134218Z
LAST-MODIFIED:20250715T134220Z
SUMMARY:Privat arr
DESCRIPTION:\n\nhttps://www.beroa.no/kalender/2025/08/23/privat-arr/3270/
END:VEVENT

END:VCALENDAR