BEGIN:VCALENDAR
VERSION:2.0
PRODID:-//mWEB//NONSGML mWEB//NB
URL:https://www.beroa.no/kalender/ics
X-WR-CALNAME:Berøa Langåker
REFRESH-INTERVAL;VALUE=DURATION:PT6H
X-PUBLISHED-TTL:PT6H    
CALSCALE:GREGORIAN
BEGIN:VEVENT
UID:beroa.no-3206
DTSTAMP:20260421T165058Z
DTSTART:20250824T173000Z
DTEND:20250824T190000Z
URL:https://www.beroa.no/kalender/2025/08/24/mote-tale-av-berner-solas-norsk-gideon/3206/
CREATED:20250515T162942Z
LAST-MODIFIED:20250815T184012Z
SUMMARY:Møte. Tale av Berner Solås. (Norsk Gideon)
DESCRIPTION:\n\nhttps://www.beroa.no/kalender/2025/08/24/mote-tale-av-berner-solas-norsk-gideon/3206/
END:VEVENT

END:VCALENDAR