BEGIN:VCALENDAR
VERSION:2.0
PRODID:-//mWEB//NONSGML mWEB//NB
URL:https://www.beroa.no/kalender/ics
X-WR-CALNAME:Berøa Langåker
REFRESH-INTERVAL;VALUE=DURATION:PT6H
X-PUBLISHED-TTL:PT6H    
CALSCALE:GREGORIAN
BEGIN:VEVENT
UID:beroa.no-3208
DTSTAMP:20260420T175225Z
DTSTART:20250831T100000Z
DTEND:20250831T113000Z
URL:https://www.beroa.no/kalender/2025/08/31/mote-tale-av-david-a-sjoen-min-fars-hus-lovsangsteamet-blir-med/3208/
CREATED:20250515T163254Z
LAST-MODIFIED:20250830T155437Z
SUMMARY:Møte. Tale av David A Sjøen: «Min Fars hus». Lovsangsteamet blir med.
DESCRIPTION:\n\nhttps://www.beroa.no/kalender/2025/08/31/mote-tale-av-david-a-sjoen-min-fars-hus-lovsangsteamet-blir-med/3208/
END:VEVENT

END:VCALENDAR