BEGIN:VCALENDAR
VERSION:2.0
PRODID:-//mWEB//NONSGML mWEB//NB
URL:https://www.beroa.no/kalender/ics
X-WR-CALNAME:Berøa Langåker
REFRESH-INTERVAL;VALUE=DURATION:PT6H
X-PUBLISHED-TTL:PT6H    
CALSCALE:GREGORIAN
BEGIN:VEVENT
UID:beroa.no-3244
DTSTAMP:20260421T132207Z
DTSTART:20250904T173000Z
DTEND:20250904T190000Z
URL:https://www.beroa.no/kalender/2025/09/04/bibellesning/3244/
CREATED:20250626T192025Z
LAST-MODIFIED:20250626T192027Z
SUMMARY:Bibellesning
DESCRIPTION:\n\nhttps://www.beroa.no/kalender/2025/09/04/bibellesning/3244/
END:VEVENT

END:VCALENDAR