BEGIN:VCALENDAR
VERSION:2.0
PRODID:-//mWEB//NONSGML mWEB//NB
URL:https://www.beroa.no/kalender/ics
X-WR-CALNAME:Berøa Langåker
REFRESH-INTERVAL;VALUE=DURATION:PT6H
X-PUBLISHED-TTL:PT6H    
CALSCALE:GREGORIAN
BEGIN:VEVENT
UID:beroa.no-3226
DTSTAMP:20260420T142055Z
DTSTART:20250905T190000Z
DTEND:20250905T203000Z
URL:https://www.beroa.no/kalender/2025/09/05/beroaung-ungdomsmote/3226/
CREATED:20250615T080052Z
LAST-MODIFIED:20250615T080052Z
SUMMARY:BerøaUng (Ungdomsmøte)
DESCRIPTION:\n\nhttps://www.beroa.no/kalender/2025/09/05/beroaung-ungdomsmote/3226/
END:VEVENT

END:VCALENDAR