BEGIN:VCALENDAR
VERSION:2.0
PRODID:-//mWEB//NONSGML mWEB//NB
URL:https://www.beroa.no/kalender/ics
X-WR-CALNAME:Berøa Langåker
REFRESH-INTERVAL;VALUE=DURATION:PT6H
X-PUBLISHED-TTL:PT6H    
CALSCALE:GREGORIAN
BEGIN:VEVENT
UID:beroa.no-3238
DTSTAMP:20260421T132312Z
DTSTART:20250905T220000Z
DTEND:20250906T215900Z
URL:https://www.beroa.no/kalender/2025/09/06/privat-arr/3238/
CREATED:20250626T190536Z
LAST-MODIFIED:20250626T190537Z
SUMMARY:Privat arr
DESCRIPTION:\n\nhttps://www.beroa.no/kalender/2025/09/06/privat-arr/3238/
X-MICROSOFT-CDO-ALLDAYEVENT:TRUE
END:VEVENT

END:VCALENDAR