BEGIN:VCALENDAR
VERSION:2.0
PRODID:-//mWEB//NONSGML mWEB//NB
URL:https://www.beroa.no/kalender/ics
X-WR-CALNAME:Berøa Langåker
REFRESH-INTERVAL;VALUE=DURATION:PT6H
X-PUBLISHED-TTL:PT6H    
CALSCALE:GREGORIAN
BEGIN:VEVENT
UID:beroa.no-3209
DTSTAMP:20260420T142412Z
DTSTART:20250907T173000Z
DTEND:20250907T190000Z
URL:https://www.beroa.no/kalender/2025/09/07/mote-tale-av-helge-tonnes-langaker-presentasjon-av-smak-og-se/3209/
CREATED:20250515T163349Z
LAST-MODIFIED:20250626T190625Z
SUMMARY:Møte. Tale av Helge Tønnes Langåker. Presentasjon av Smak og se
DESCRIPTION:\n\nhttps://www.beroa.no/kalender/2025/09/07/mote-tale-av-helge-tonnes-langaker-presentasjon-av-smak-og-se/3209/
END:VEVENT

END:VCALENDAR