BEGIN:VCALENDAR
VERSION:2.0
PRODID:-//mWEB//NONSGML mWEB//NB
URL:https://www.beroa.no/kalender/ics
X-WR-CALNAME:Berøa Langåker
REFRESH-INTERVAL;VALUE=DURATION:PT6H
X-PUBLISHED-TTL:PT6H    
CALSCALE:GREGORIAN
BEGIN:VEVENT
UID:beroa.no-3280
DTSTAMP:20260420T140600Z
DTSTART:20250913T160000Z
DTEND:20250913T173000Z
URL:https://www.beroa.no/kalender/2025/09/13/sammen-pa-vea/3280/
CREATED:20250831T145257Z
LAST-MODIFIED:20250831T145257Z
SUMMARY:Sammen på Vea
DESCRIPTION:\n\nhttps://www.beroa.no/kalender/2025/09/13/sammen-pa-vea/3280/
END:VEVENT

END:VCALENDAR