BEGIN:VCALENDAR
VERSION:2.0
PRODID:-//mWEB//NONSGML mWEB//NB
URL:https://www.beroa.no/kalender/ics
X-WR-CALNAME:Berøa Langåker
REFRESH-INTERVAL;VALUE=DURATION:PT6H
X-PUBLISHED-TTL:PT6H    
CALSCALE:GREGORIAN
BEGIN:VEVENT
UID:beroa.no-3248
DTSTAMP:20260420T142419Z
DTSTART:20250914T173000Z
DTEND:20250914T190000Z
URL:https://www.beroa.no/kalender/2025/09/14/mote-tale-og-sang-av-ingvar-og-camilla-hemnes/3248/
CREATED:20250626T192255Z
LAST-MODIFIED:20250902T164103Z
SUMMARY:Møte. Tale og sang av Ingvar og Camilla Hemnes.
DESCRIPTION:\n\nhttps://www.beroa.no/kalender/2025/09/14/mote-tale-og-sang-av-ingvar-og-camilla-hemnes/3248/
END:VEVENT

END:VCALENDAR