BEGIN:VCALENDAR
VERSION:2.0
PRODID:-//mWEB//NONSGML mWEB//NB
URL:https://www.beroa.no/kalender/ics
X-WR-CALNAME:Berøa Langåker
REFRESH-INTERVAL;VALUE=DURATION:PT6H
X-PUBLISHED-TTL:PT6H    
CALSCALE:GREGORIAN
BEGIN:VEVENT
UID:beroa.no-3281
DTSTAMP:20260421T132208Z
DTSTART:20250914T100000Z
DTEND:20250914T113000Z
URL:https://www.beroa.no/kalender/2025/09/14/sammen-pa-vea/3281/
CREATED:20250831T145321Z
LAST-MODIFIED:20250831T145321Z
SUMMARY:Sammen på Vea
DESCRIPTION:\n\nhttps://www.beroa.no/kalender/2025/09/14/sammen-pa-vea/3281/
END:VEVENT

END:VCALENDAR