BEGIN:VCALENDAR
VERSION:2.0
PRODID:-//mWEB//NONSGML mWEB//NB
URL:https://www.beroa.no/kalender/ics
X-WR-CALNAME:Berøa Langåker
REFRESH-INTERVAL;VALUE=DURATION:PT6H
X-PUBLISHED-TTL:PT6H    
CALSCALE:GREGORIAN
BEGIN:VEVENT
UID:beroa.no-3247
DTSTAMP:20260421T132311Z
DTSTART:20250918T173000Z
DTEND:20250918T190000Z
URL:https://www.beroa.no/kalender/2025/09/18/bibellesning/3247/
CREATED:20250626T192119Z
LAST-MODIFIED:20250626T192121Z
SUMMARY:Bibellesning
DESCRIPTION:\n\nhttps://www.beroa.no/kalender/2025/09/18/bibellesning/3247/
END:VEVENT

END:VCALENDAR