BEGIN:VCALENDAR
VERSION:2.0
PRODID:-//mWEB//NONSGML mWEB//NB
URL:https://www.beroa.no/kalender/ics
X-WR-CALNAME:Berøa Langåker
REFRESH-INTERVAL;VALUE=DURATION:PT6H
X-PUBLISHED-TTL:PT6H    
CALSCALE:GREGORIAN
BEGIN:VEVENT
UID:beroa.no-3275
DTSTAMP:20260421T132419Z
DTSTART:20250919T160000Z
DTEND:20250919T173000Z
URL:https://www.beroa.no/kalender/2025/09/19/10-13-klubben/3275/
CREATED:20250822T061506Z
LAST-MODIFIED:20250822T061506Z
SUMMARY:10-13 klubben
DESCRIPTION:\n\nhttps://www.beroa.no/kalender/2025/09/19/10-13-klubben/3275/
END:VEVENT

END:VCALENDAR