BEGIN:VCALENDAR
VERSION:2.0
PRODID:-//mWEB//NONSGML mWEB//NB
URL:https://www.beroa.no/kalender/ics
X-WR-CALNAME:Berøa Langåker
REFRESH-INTERVAL;VALUE=DURATION:PT6H
X-PUBLISHED-TTL:PT6H    
CALSCALE:GREGORIAN
BEGIN:VEVENT
UID:beroa.no-3227
DTSTAMP:20260420T142055Z
DTSTART:20250920T180000Z
DTEND:20250920T193000Z
URL:https://www.beroa.no/kalender/2025/09/20/acta-ungdomsmote-betania/3227/
CREATED:20250615T080218Z
LAST-MODIFIED:20250615T080218Z
SUMMARY:Acta (Ungdomsmøte Betania)
DESCRIPTION:\n\nhttps://www.beroa.no/kalender/2025/09/20/acta-ungdomsmote-betania/3227/
END:VEVENT

END:VCALENDAR