BEGIN:VCALENDAR
VERSION:2.0
PRODID:-//mWEB//NONSGML mWEB//NB
URL:https://www.beroa.no/kalender/ics
X-WR-CALNAME:Berøa Langåker
REFRESH-INTERVAL;VALUE=DURATION:PT6H
X-PUBLISHED-TTL:PT6H    
CALSCALE:GREGORIAN
BEGIN:VEVENT
UID:beroa.no-3249
DTSTAMP:20260420T135925Z
DTSTART:20250921T173000Z
DTEND:20250921T190000Z
URL:https://www.beroa.no/kalender/2025/09/21/brodsbrytelse/3249/
CREATED:20250626T192411Z
LAST-MODIFIED:20250626T192413Z
SUMMARY:Brødsbrytelse
DESCRIPTION:\n\nhttps://www.beroa.no/kalender/2025/09/21/brodsbrytelse/3249/
END:VEVENT

END:VCALENDAR