BEGIN:VCALENDAR
VERSION:2.0
PRODID:-//mWEB//NONSGML mWEB//NB
URL:https://www.beroa.no/kalender/ics
X-WR-CALNAME:Berøa Langåker
REFRESH-INTERVAL;VALUE=DURATION:PT6H
X-PUBLISHED-TTL:PT6H    
CALSCALE:GREGORIAN
BEGIN:VEVENT
UID:beroa.no-3288
DTSTAMP:20260424T094102Z
DTSTART:20250921T090000Z
DTEND:20250921T103000Z
URL:https://www.beroa.no/kalender/2025/09/21/sondagsskule/3288/
CREATED:20250910T163037Z
LAST-MODIFIED:20250910T163038Z
SUMMARY:Søndagsskule
DESCRIPTION:\n\nhttps://www.beroa.no/kalender/2025/09/21/sondagsskule/3288/
END:VEVENT

END:VCALENDAR