BEGIN:VCALENDAR
VERSION:2.0
PRODID:-//mWEB//NONSGML mWEB//NB
URL:https://www.beroa.no/kalender/ics
X-WR-CALNAME:Berøa Langåker
REFRESH-INTERVAL;VALUE=DURATION:PT6H
X-PUBLISHED-TTL:PT6H    
CALSCALE:GREGORIAN
BEGIN:VEVENT
UID:beroa.no-3241
DTSTAMP:20260420T143325Z
DTSTART:20250923T170000Z
DTEND:20250923T183000Z
URL:https://www.beroa.no/kalender/2025/09/23/felles-bibeltimer-pa-sandve-bedehus-tale-av-oyvind-solheim-tema-galaterbrevet/3241/
CREATED:20250626T191809Z
LAST-MODIFIED:20250910T162614Z
SUMMARY:Felles bibeltimer på Sandve Bedehus. Tale av Øyvind Solheim. Tema: "Galaterbrevet"
DESCRIPTION:\n\nhttps://www.beroa.no/kalender/2025/09/23/felles-bibeltimer-pa-sandve-bedehus-tale-av-oyvind-solheim-tema-galaterbrevet/3241/
END:VEVENT

END:VCALENDAR