BEGIN:VCALENDAR
VERSION:2.0
PRODID:-//mWEB//NONSGML mWEB//NB
URL:https://www.beroa.no/kalender/ics
X-WR-CALNAME:Berøa Langåker
REFRESH-INTERVAL;VALUE=DURATION:PT6H
X-PUBLISHED-TTL:PT6H    
CALSCALE:GREGORIAN
BEGIN:VEVENT
UID:beroa.no-3246
DTSTAMP:20260420T102053Z
DTSTART:20250925T173000Z
DTEND:20250925T190000Z
URL:https://www.beroa.no/kalender/2025/09/25/bibellesning/3246/
CREATED:20250626T192058Z
LAST-MODIFIED:20250626T192059Z
SUMMARY:Bibellesning
DESCRIPTION:\n\nhttps://www.beroa.no/kalender/2025/09/25/bibellesning/3246/
END:VEVENT

END:VCALENDAR