BEGIN:VCALENDAR
VERSION:2.0
PRODID:-//mWEB//NONSGML mWEB//NB
URL:https://www.beroa.no/kalender/ics
X-WR-CALNAME:Berøa Langåker
REFRESH-INTERVAL;VALUE=DURATION:PT6H
X-PUBLISHED-TTL:PT6H    
CALSCALE:GREGORIAN
BEGIN:VEVENT
UID:beroa.no-3210
DTSTAMP:20260420T142736Z
DTSTART:20250926T173000Z
DTEND:20250926T190000Z
URL:https://www.beroa.no/kalender/2025/09/26/mote-tale-av-oystein-persson-sang-av-charlotte-gaupas/3210/
CREATED:20250515T163502Z
LAST-MODIFIED:20250902T164210Z
SUMMARY:Møte. Tale av Øystein Persson. Sang av Charlotte Gaupås.
DESCRIPTION:\n\nhttps://www.beroa.no/kalender/2025/09/26/mote-tale-av-oystein-persson-sang-av-charlotte-gaupas/3210/
END:VEVENT

END:VCALENDAR