BEGIN:VCALENDAR
VERSION:2.0
PRODID:-//mWEB//NONSGML mWEB//NB
URL:https://www.beroa.no/kalender/ics
X-WR-CALNAME:Berøa Langåker
REFRESH-INTERVAL;VALUE=DURATION:PT6H
X-PUBLISHED-TTL:PT6H    
CALSCALE:GREGORIAN
BEGIN:VEVENT
UID:beroa.no-3228
DTSTAMP:20260420T103002Z
DTSTART:20250927T190000Z
DTEND:20250927T203000Z
URL:https://www.beroa.no/kalender/2025/09/27/beroaung-ungdomsmote/3228/
CREATED:20250615T080302Z
LAST-MODIFIED:20250615T080302Z
SUMMARY:BerøaUng (Ungdomsmøte)
DESCRIPTION:\n\nhttps://www.beroa.no/kalender/2025/09/27/beroaung-ungdomsmote/3228/
END:VEVENT

END:VCALENDAR