BEGIN:VCALENDAR
VERSION:2.0
PRODID:-//mWEB//NONSGML mWEB//NB
URL:https://www.beroa.no/kalender/ics
X-WR-CALNAME:Berøa Langåker
REFRESH-INTERVAL;VALUE=DURATION:PT6H
X-PUBLISHED-TTL:PT6H    
CALSCALE:GREGORIAN
BEGIN:VEVENT
UID:beroa.no-3211
DTSTAMP:20260420T142313Z
DTSTART:20250927T170000Z
DTEND:20250927T183000Z
URL:https://www.beroa.no/kalender/2025/09/27/mote-tale-av-oystein-persson-sang-av-astrid-persson/3211/
CREATED:20250515T163527Z
LAST-MODIFIED:20250902T164250Z
SUMMARY:Møte. Tale av Øystein Persson. Sang av Astrid Persson.
DESCRIPTION:\n\nhttps://www.beroa.no/kalender/2025/09/27/mote-tale-av-oystein-persson-sang-av-astrid-persson/3211/
END:VEVENT

END:VCALENDAR