BEGIN:VCALENDAR
VERSION:2.0
PRODID:-//mWEB//NONSGML mWEB//NB
URL:https://www.beroa.no/kalender/ics
X-WR-CALNAME:Berøa Langåker
REFRESH-INTERVAL;VALUE=DURATION:PT6H
X-PUBLISHED-TTL:PT6H    
CALSCALE:GREGORIAN
BEGIN:VEVENT
UID:beroa.no-3212
DTSTAMP:20260420T143334Z
DTSTART:20250928T100000Z
DTEND:20250928T113000Z
URL:https://www.beroa.no/kalender/2025/09/28/mote-tale-av-oystein-persson-sang-av-astrid-persson-lovsangsteamet-blir-med/3212/
CREATED:20250515T163603Z
LAST-MODIFIED:20250902T164518Z
SUMMARY:Møte. Tale av Øystein Persson. Sang av Astrid Persson. Lovsangsteamet blir med.
DESCRIPTION:\n\nhttps://www.beroa.no/kalender/2025/09/28/mote-tale-av-oystein-persson-sang-av-astrid-persson-lovsangsteamet-blir-med/3212/
END:VEVENT

END:VCALENDAR