BEGIN:VCALENDAR
VERSION:2.0
PRODID:-//mWEB//NONSGML mWEB//NB
URL:https://www.beroa.no/kalender/ics
X-WR-CALNAME:Berøa Langåker
REFRESH-INTERVAL;VALUE=DURATION:PT6H
X-PUBLISHED-TTL:PT6H    
CALSCALE:GREGORIAN
BEGIN:VEVENT
UID:beroa.no-3306
DTSTAMP:20260420T140539Z
DTSTART:20251005T110000Z
DTEND:20251005T123000Z
URL:https://www.beroa.no/kalender/2025/10/05/priv-arr/3306/
CREATED:20251001T172247Z
LAST-MODIFIED:20251001T172248Z
SUMMARY:Priv arr
DESCRIPTION:\n\nhttps://www.beroa.no/kalender/2025/10/05/priv-arr/3306/
END:VEVENT

END:VCALENDAR