BEGIN:VCALENDAR
VERSION:2.0
PRODID:-//mWEB//NONSGML mWEB//NB
URL:https://www.beroa.no/kalender/ics
X-WR-CALNAME:Berøa Langåker
REFRESH-INTERVAL;VALUE=DURATION:PT6H
X-PUBLISHED-TTL:PT6H    
CALSCALE:GREGORIAN
BEGIN:VEVENT
UID:beroa.no-3284
DTSTAMP:20260421T132207Z
DTSTART:20251007T173000Z
DTEND:20251007T190000Z
URL:https://www.beroa.no/kalender/2025/10/07/bonnesamling/3284/
CREATED:20250910T162700Z
LAST-MODIFIED:20250910T162702Z
SUMMARY:Bønnesamling
DESCRIPTION:\n\nhttps://www.beroa.no/kalender/2025/10/07/bonnesamling/3284/
END:VEVENT

END:VCALENDAR