BEGIN:VCALENDAR
VERSION:2.0
PRODID:-//mWEB//NONSGML mWEB//NB
URL:https://www.beroa.no/kalender/ics
X-WR-CALNAME:Berøa Langåker
REFRESH-INTERVAL;VALUE=DURATION:PT6H
X-PUBLISHED-TTL:PT6H    
CALSCALE:GREGORIAN
BEGIN:VEVENT
UID:beroa.no-3251
DTSTAMP:20260420T143227Z
DTSTART:20251012T100000Z
DTEND:20251012T113000Z
URL:https://www.beroa.no/kalender/2025/10/12/mote-tale-av-david-a-sjoen-tema-livets-opphavsmann-mark-521-43/3251/
CREATED:20250626T192542Z
LAST-MODIFIED:20251011T075317Z
SUMMARY:Møte. Tale av David A Sjøen. Tema: "Livets opphavsmann" (Mark 5:21-43)
DESCRIPTION:\n\nhttps://www.beroa.no/kalender/2025/10/12/mote-tale-av-david-a-sjoen-tema-livets-opphavsmann-mark-521-43/3251/
END:VEVENT

END:VCALENDAR