BEGIN:VCALENDAR
VERSION:2.0
PRODID:-//mWEB//NONSGML mWEB//NB
URL:https://www.beroa.no/kalender/ics
X-WR-CALNAME:Berøa Langåker
REFRESH-INTERVAL;VALUE=DURATION:PT6H
X-PUBLISHED-TTL:PT6H    
CALSCALE:GREGORIAN
BEGIN:VEVENT
UID:beroa.no-3195
DTSTAMP:20260421T132107Z
DTSTART:20251013T150000Z
DTEND:20251013T163000Z
URL:https://www.beroa.no/kalender/2025/10/13/stordugnad/3195/
CREATED:20250330T184952Z
LAST-MODIFIED:20250330T184952Z
SUMMARY:Stordugnad
DESCRIPTION:\n\nhttps://www.beroa.no/kalender/2025/10/13/stordugnad/3195/
END:VEVENT

END:VCALENDAR