BEGIN:VCALENDAR
VERSION:2.0
PRODID:-//mWEB//NONSGML mWEB//NB
URL:https://www.beroa.no/kalender/ics
X-WR-CALNAME:Berøa Langåker
REFRESH-INTERVAL;VALUE=DURATION:PT6H
X-PUBLISHED-TTL:PT6H    
CALSCALE:GREGORIAN
BEGIN:VEVENT
UID:beroa.no-3307
DTSTAMP:20260420T141405Z
DTSTART:20251013T220000Z
DTEND:20251014T215900Z
URL:https://www.beroa.no/kalender/2025/10/14/smak-og-se-pa-beroa/3307/
CREATED:20251001T172904Z
LAST-MODIFIED:20251001T172905Z
SUMMARY:Smak og se på Berøa
DESCRIPTION:\n\nhttps://www.beroa.no/kalender/2025/10/14/smak-og-se-pa-beroa/3307/
X-MICROSOFT-CDO-ALLDAYEVENT:TRUE
END:VEVENT

END:VCALENDAR