BEGIN:VCALENDAR
VERSION:2.0
PRODID:-//mWEB//NONSGML mWEB//NB
URL:https://www.beroa.no/kalender/ics
X-WR-CALNAME:Berøa Langåker
REFRESH-INTERVAL;VALUE=DURATION:PT6H
X-PUBLISHED-TTL:PT6H    
CALSCALE:GREGORIAN
BEGIN:VEVENT
UID:beroa.no-3283
DTSTAMP:20260420T143742Z
DTSTART:20251015T170000Z
DTEND:20251015T183000Z
URL:https://www.beroa.no/kalender/2025/10/15/felles-ledersamling-alexis-lundh-blir-med-tema-trygge-ledere-trygge-fellesskap-nar-grenser-er-uklare-om-makt-tillit-og-ansvar-i-lederrollen/3283/
CREATED:20250908T174439Z
LAST-MODIFIED:20250908T174441Z
SUMMARY:Felles ledersamling. Alexis Lundh blir med. Tema: "Trygge ledere - trygge fellesskap. Når grenser er uklare - om makt\, tillit og ansvar i lederrollen"
DESCRIPTION:\n\nhttps://www.beroa.no/kalender/2025/10/15/felles-ledersamling-alexis-lundh-blir-med-tema-trygge-ledere-trygge-fellesskap-nar-grenser-er-uklare-om-makt-tillit-og-ansvar-i-lederrollen/3283/
END:VEVENT

END:VCALENDAR