BEGIN:VCALENDAR
VERSION:2.0
PRODID:-//mWEB//NONSGML mWEB//NB
URL:https://www.beroa.no/kalender/ics
X-WR-CALNAME:Berøa Langåker
REFRESH-INTERVAL;VALUE=DURATION:PT6H
X-PUBLISHED-TTL:PT6H    
CALSCALE:GREGORIAN
BEGIN:VEVENT
UID:beroa.no-3252
DTSTAMP:20260420T140442Z
DTSTART:20251019T173000Z
DTEND:20251019T190000Z
URL:https://www.beroa.no/kalender/2025/10/19/brodsbrytelse/3252/
CREATED:20250626T192635Z
LAST-MODIFIED:20250626T192636Z
SUMMARY:Brødsbrytelse
DESCRIPTION:\n\nhttps://www.beroa.no/kalender/2025/10/19/brodsbrytelse/3252/
END:VEVENT

END:VCALENDAR