BEGIN:VCALENDAR
VERSION:2.0
PRODID:-//mWEB//NONSGML mWEB//NB
URL:https://www.beroa.no/kalender/ics
X-WR-CALNAME:Berøa Langåker
REFRESH-INTERVAL;VALUE=DURATION:PT6H
X-PUBLISHED-TTL:PT6H    
CALSCALE:GREGORIAN
BEGIN:VEVENT
UID:beroa.no-3253
DTSTAMP:20260420T143724Z
DTSTART:20251024T170000Z
DTEND:20251024T183000Z
URL:https://www.beroa.no/kalender/2025/10/24/mote-fredagssamling-tale-av-anne-kristine-rosberg-lovsangsteamet-blir-med/3253/
CREATED:20250626T192839Z
LAST-MODIFIED:20250920T122509Z
SUMMARY:Møte/ "Fredagssamling". Tale av Anne Kristine Rosberg. Lovsangsteamet blir med.
DESCRIPTION:\n\nhttps://www.beroa.no/kalender/2025/10/24/mote-fredagssamling-tale-av-anne-kristine-rosberg-lovsangsteamet-blir-med/3253/
END:VEVENT

END:VCALENDAR