BEGIN:VCALENDAR
VERSION:2.0
PRODID:-//mWEB//NONSGML mWEB//NB
URL:https://www.beroa.no/kalender/ics
X-WR-CALNAME:Berøa Langåker
REFRESH-INTERVAL;VALUE=DURATION:PT6H
X-PUBLISHED-TTL:PT6H    
CALSCALE:GREGORIAN
BEGIN:VEVENT
UID:beroa.no-3255
DTSTAMP:20260420T143445Z
DTSTART:20251026T110000Z
DTEND:20251026T123000Z
URL:https://www.beroa.no/kalender/2025/10/26/mote-tale-av-anne-kristine-rosberg-lovsangsteamet-blir-med-barnevelsignelse/3255/
CREATED:20250626T192958Z
LAST-MODIFIED:20251001T172149Z
SUMMARY:Møte. Tale av Anne Kristine Rosberg. Lovsangsteamet blir med. Barnevelsignelse.
DESCRIPTION:\n\nhttps://www.beroa.no/kalender/2025/10/26/mote-tale-av-anne-kristine-rosberg-lovsangsteamet-blir-med-barnevelsignelse/3255/
END:VEVENT

END:VCALENDAR