BEGIN:VCALENDAR
VERSION:2.0
PRODID:-//mWEB//NONSGML mWEB//NB
URL:https://www.beroa.no/kalender/ics
X-WR-CALNAME:Berøa Langåker
REFRESH-INTERVAL;VALUE=DURATION:PT6H
X-PUBLISHED-TTL:PT6H    
CALSCALE:GREGORIAN
BEGIN:VEVENT
UID:beroa.no-3287
DTSTAMP:20260420T102445Z
DTSTART:20251028T183000Z
DTEND:20251028T200000Z
URL:https://www.beroa.no/kalender/2025/10/28/bonnesamling/3287/
CREATED:20250910T162836Z
LAST-MODIFIED:20250910T162838Z
SUMMARY:Bønnesamling
DESCRIPTION:\n\nhttps://www.beroa.no/kalender/2025/10/28/bonnesamling/3287/
END:VEVENT

END:VCALENDAR