BEGIN:VCALENDAR
VERSION:2.0
PRODID:-//mWEB//NONSGML mWEB//NB
URL:https://www.beroa.no/kalender/ics
X-WR-CALNAME:Berøa Langåker
REFRESH-INTERVAL;VALUE=DURATION:PT6H
X-PUBLISHED-TTL:PT6H    
CALSCALE:GREGORIAN
BEGIN:VEVENT
UID:beroa.no-3326
DTSTAMP:20260420T142932Z
DTSTART:20251029T183000Z
DTEND:20251029T200000Z
URL:https://www.beroa.no/kalender/2025/10/29/mannsmote-pa-betania-david-a-sjoen-blir-med/3326/
CREATED:20251028T173257Z
LAST-MODIFIED:20251028T173259Z
SUMMARY:Mannsmøte på Betania. David A Sjøen blir med.
DESCRIPTION:\n\nhttps://www.beroa.no/kalender/2025/10/29/mannsmote-pa-betania-david-a-sjoen-blir-med/3326/
END:VEVENT

END:VCALENDAR