BEGIN:VCALENDAR
VERSION:2.0
PRODID:-//mWEB//NONSGML mWEB//NB
URL:https://www.beroa.no/kalender/ics
X-WR-CALNAME:Berøa Langåker
REFRESH-INTERVAL;VALUE=DURATION:PT6H
X-PUBLISHED-TTL:PT6H    
CALSCALE:GREGORIAN
BEGIN:VEVENT
UID:beroa.no-3293
DTSTAMP:20260420T140710Z
DTSTART:20251030T183000Z
DTEND:20251030T200000Z
URL:https://www.beroa.no/kalender/2025/10/30/bibellesning/3293/
CREATED:20250910T163317Z
LAST-MODIFIED:20250910T163319Z
SUMMARY:Bibellesning
DESCRIPTION:\n\nhttps://www.beroa.no/kalender/2025/10/30/bibellesning/3293/
END:VEVENT

END:VCALENDAR