BEGIN:VCALENDAR
VERSION:2.0
PRODID:-//mWEB//NONSGML mWEB//NB
URL:https://www.beroa.no/kalender/ics
X-WR-CALNAME:Berøa Langåker
REFRESH-INTERVAL;VALUE=DURATION:PT6H
X-PUBLISHED-TTL:PT6H    
CALSCALE:GREGORIAN
BEGIN:VEVENT
UID:beroa.no-3302
DTSTAMP:20260420T140710Z
DTSTART:20251102T100000Z
DTEND:20251102T113000Z
URL:https://www.beroa.no/kalender/2025/11/02/sondagsskule/3302/
CREATED:20250920T121958Z
LAST-MODIFIED:20250920T122000Z
SUMMARY:Søndagsskule
DESCRIPTION:\n\nhttps://www.beroa.no/kalender/2025/11/02/sondagsskule/3302/
END:VEVENT

END:VCALENDAR