BEGIN:VCALENDAR
VERSION:2.0
PRODID:-//mWEB//NONSGML mWEB//NB
URL:https://www.beroa.no/kalender/ics
X-WR-CALNAME:Berøa Langåker
REFRESH-INTERVAL;VALUE=DURATION:PT6H
X-PUBLISHED-TTL:PT6H    
CALSCALE:GREGORIAN
BEGIN:VEVENT
UID:beroa.no-3232
DTSTAMP:20260420T140441Z
DTSTART:20251108T190000Z
DTEND:20251108T203000Z
URL:https://www.beroa.no/kalender/2025/11/08/zennep/3232/
CREATED:20250615T080504Z
LAST-MODIFIED:20250615T080504Z
SUMMARY:Zennep
DESCRIPTION:\n\nhttps://www.beroa.no/kalender/2025/11/08/zennep/3232/
END:VEVENT

END:VCALENDAR