BEGIN:VCALENDAR
VERSION:2.0
PRODID:-//mWEB//NONSGML mWEB//NB
URL:https://www.beroa.no/kalender/ics
X-WR-CALNAME:Berøa Langåker
REFRESH-INTERVAL;VALUE=DURATION:PT6H
X-PUBLISHED-TTL:PT6H    
CALSCALE:GREGORIAN
BEGIN:VEVENT
UID:beroa.no-3257
DTSTAMP:20260420T103919Z
DTSTART:20251109T110000Z
DTEND:20251109T123000Z
URL:https://www.beroa.no/kalender/2025/11/09/mote-med-brodsbrytelse-tale-av-david-a-sjoen-tema-husk-pa-jesus-kristus-lovsangsteamet-blir-med/3257/
CREATED:20250626T193118Z
LAST-MODIFIED:20251107T070730Z
SUMMARY:Møte med brødsbrytelse. Tale av David A Sjøen. Tema: "Husk på Jesus Kristus". Lovsangsteamet blir med.
DESCRIPTION:\n\nhttps://www.beroa.no/kalender/2025/11/09/mote-med-brodsbrytelse-tale-av-david-a-sjoen-tema-husk-pa-jesus-kristus-lovsangsteamet-blir-med/3257/
END:VEVENT

END:VCALENDAR