BEGIN:VCALENDAR
VERSION:2.0
PRODID:-//mWEB//NONSGML mWEB//NB
URL:https://www.beroa.no/kalender/ics
X-WR-CALNAME:Berøa Langåker
REFRESH-INTERVAL;VALUE=DURATION:PT6H
X-PUBLISHED-TTL:PT6H    
CALSCALE:GREGORIAN
BEGIN:VEVENT
UID:beroa.no-3314
DTSTAMP:20260420T140540Z
DTSTART:20251113T183000Z
DTEND:20251113T200000Z
URL:https://www.beroa.no/kalender/2025/11/13/bibellesning/3314/
CREATED:20251001T173228Z
LAST-MODIFIED:20251001T173230Z
SUMMARY:Bibellesning
DESCRIPTION:\n\nhttps://www.beroa.no/kalender/2025/11/13/bibellesning/3314/
END:VEVENT

END:VCALENDAR