BEGIN:VCALENDAR
VERSION:2.0
PRODID:-//mWEB//NONSGML mWEB//NB
URL:https://www.beroa.no/kalender/ics
X-WR-CALNAME:Berøa Langåker
REFRESH-INTERVAL;VALUE=DURATION:PT6H
X-PUBLISHED-TTL:PT6H    
CALSCALE:GREGORIAN
BEGIN:VEVENT
UID:beroa.no-3277
DTSTAMP:20260420T102639Z
DTSTART:20251114T170000Z
DTEND:20251114T183000Z
URL:https://www.beroa.no/kalender/2025/11/14/10-13-klubben/3277/
CREATED:20250822T061553Z
LAST-MODIFIED:20250822T061553Z
SUMMARY:10-13 klubben
DESCRIPTION:\n\nhttps://www.beroa.no/kalender/2025/11/14/10-13-klubben/3277/
END:VEVENT

END:VCALENDAR