BEGIN:VCALENDAR
VERSION:2.0
PRODID:-//mWEB//NONSGML mWEB//NB
URL:https://www.beroa.no/kalender/ics
X-WR-CALNAME:Berøa Langåker
REFRESH-INTERVAL;VALUE=DURATION:PT6H
X-PUBLISHED-TTL:PT6H    
CALSCALE:GREGORIAN
BEGIN:VEVENT
UID:beroa.no-3258
DTSTAMP:20260420T103300Z
DTSTART:20251114T183000Z
DTEND:20251114T200000Z
URL:https://www.beroa.no/kalender/2025/11/14/motesangkveld-sveinung-andersen-og-sela-blir-med/3258/
CREATED:20250626T193223Z
LAST-MODIFIED:20250626T193224Z
SUMMARY:Møte/sangkveld. Sveinung Andersen og Sela blir med.
DESCRIPTION:\n\nhttps://www.beroa.no/kalender/2025/11/14/motesangkveld-sveinung-andersen-og-sela-blir-med/3258/
END:VEVENT

END:VCALENDAR