BEGIN:VCALENDAR
VERSION:2.0
PRODID:-//mWEB//NONSGML mWEB//NB
URL:https://www.beroa.no/kalender/ics
X-WR-CALNAME:Berøa Langåker
REFRESH-INTERVAL;VALUE=DURATION:PT6H
X-PUBLISHED-TTL:PT6H    
CALSCALE:GREGORIAN
BEGIN:VEVENT
UID:beroa.no-3233
DTSTAMP:20260424T082041Z
DTSTART:20251115T200000Z
DTEND:20251115T213000Z
URL:https://www.beroa.no/kalender/2025/11/15/beroaung-treff/3233/
CREATED:20250615T080544Z
LAST-MODIFIED:20250615T080544Z
SUMMARY:BerøaUng (treff)
DESCRIPTION:\n\nhttps://www.beroa.no/kalender/2025/11/15/beroaung-treff/3233/
END:VEVENT

END:VCALENDAR