BEGIN:VCALENDAR
VERSION:2.0
PRODID:-//mWEB//NONSGML mWEB//NB
URL:https://www.beroa.no/kalender/ics
X-WR-CALNAME:Berøa Langåker
REFRESH-INTERVAL;VALUE=DURATION:PT6H
X-PUBLISHED-TTL:PT6H    
CALSCALE:GREGORIAN
BEGIN:VEVENT
UID:beroa.no-3303
DTSTAMP:20260420T111050Z
DTSTART:20251116T100000Z
DTEND:20251116T113000Z
URL:https://www.beroa.no/kalender/2025/11/16/sondagsskule/3303/
CREATED:20250920T122017Z
LAST-MODIFIED:20250920T122020Z
SUMMARY:Søndagsskule
DESCRIPTION:\n\nhttps://www.beroa.no/kalender/2025/11/16/sondagsskule/3303/
END:VEVENT

END:VCALENDAR