BEGIN:VCALENDAR
VERSION:2.0
PRODID:-//mWEB//NONSGML mWEB//NB
URL:https://www.beroa.no/kalender/ics
X-WR-CALNAME:Berøa Langåker
REFRESH-INTERVAL;VALUE=DURATION:PT6H
X-PUBLISHED-TTL:PT6H    
CALSCALE:GREGORIAN
BEGIN:VEVENT
UID:beroa.no-3196
DTSTAMP:20260420T140539Z
DTSTART:20251117T170000Z
DTEND:20251117T183000Z
URL:https://www.beroa.no/kalender/2025/11/17/dugnad/3196/
CREATED:20250330T185033Z
LAST-MODIFIED:20250330T185033Z
SUMMARY:Dugnad
DESCRIPTION:\n\nhttps://www.beroa.no/kalender/2025/11/17/dugnad/3196/
END:VEVENT

END:VCALENDAR