BEGIN:VCALENDAR
VERSION:2.0
PRODID:-//mWEB//NONSGML mWEB//NB
URL:https://www.beroa.no/kalender/ics
X-WR-CALNAME:Berøa Langåker
REFRESH-INTERVAL;VALUE=DURATION:PT6H
X-PUBLISHED-TTL:PT6H    
CALSCALE:GREGORIAN
BEGIN:VEVENT
UID:beroa.no-3312
DTSTAMP:20260420T102607Z
DTSTART:20251118T183000Z
DTEND:20251118T200000Z
URL:https://www.beroa.no/kalender/2025/11/18/bonnesamling/3312/
CREATED:20251001T173126Z
LAST-MODIFIED:20251001T173128Z
SUMMARY:Bønnesamling
DESCRIPTION:\n\nhttps://www.beroa.no/kalender/2025/11/18/bonnesamling/3312/
END:VEVENT

END:VCALENDAR