BEGIN:VCALENDAR
VERSION:2.0
PRODID:-//mWEB//NONSGML mWEB//NB
URL:https://www.beroa.no/kalender/ics
X-WR-CALNAME:Berøa Langåker
REFRESH-INTERVAL;VALUE=DURATION:PT6H
X-PUBLISHED-TTL:PT6H    
CALSCALE:GREGORIAN
BEGIN:VEVENT
UID:beroa.no-3315
DTSTAMP:20260421T132108Z
DTSTART:20251120T183000Z
DTEND:20251120T200000Z
URL:https://www.beroa.no/kalender/2025/11/20/bibellesning/3315/
CREATED:20251001T173245Z
LAST-MODIFIED:20251001T173247Z
SUMMARY:Bibellesning
DESCRIPTION:\n\nhttps://www.beroa.no/kalender/2025/11/20/bibellesning/3315/
END:VEVENT

END:VCALENDAR