BEGIN:VCALENDAR
VERSION:2.0
PRODID:-//mWEB//NONSGML mWEB//NB
URL:https://www.beroa.no/kalender/ics
X-WR-CALNAME:Berøa Langåker
REFRESH-INTERVAL;VALUE=DURATION:PT6H
X-PUBLISHED-TTL:PT6H    
CALSCALE:GREGORIAN
BEGIN:VEVENT
UID:beroa.no-3213
DTSTAMP:20260420T103910Z
DTSTART:20251121T183000Z
DTEND:20251121T200000Z
URL:https://www.beroa.no/kalender/2025/11/21/mote-tale-av-johan-halsne-tema-hva-himmelen-er-hva-himmelen-skal-bli-sang-av-havgap/3213/
CREATED:20250515T163700Z
LAST-MODIFIED:20251119T131054Z
SUMMARY:Møte. Tale av Johan Halsne. Tema: "Hva himmelen er - hva himmelen skal bli". Sang av Havgap
DESCRIPTION:\n\nhttps://www.beroa.no/kalender/2025/11/21/mote-tale-av-johan-halsne-tema-hva-himmelen-er-hva-himmelen-skal-bli-sang-av-havgap/3213/
END:VEVENT

END:VCALENDAR