BEGIN:VCALENDAR
VERSION:2.0
PRODID:-//mWEB//NONSGML mWEB//NB
URL:https://www.beroa.no/kalender/ics
X-WR-CALNAME:Berøa Langåker
REFRESH-INTERVAL;VALUE=DURATION:PT6H
X-PUBLISHED-TTL:PT6H    
CALSCALE:GREGORIAN
BEGIN:VEVENT
UID:beroa.no-3214
DTSTAMP:20260420T104029Z
DTSTART:20251122T180000Z
DTEND:20251122T193000Z
URL:https://www.beroa.no/kalender/2025/11/22/mote-tale-av-johan-halsne-tema-hva-himmelen-er-hva-himmelen-skal-bli-sang-av-nathalie-brekka-med-band/3214/
CREATED:20250515T163732Z
LAST-MODIFIED:20251119T131200Z
SUMMARY:Møte. Tale av Johan Halsne. Tema: "Hva himmelen er - hva himmelen skal bli". Sang av Nathalie Brekkå med band.
DESCRIPTION:\n\nhttps://www.beroa.no/kalender/2025/11/22/mote-tale-av-johan-halsne-tema-hva-himmelen-er-hva-himmelen-skal-bli-sang-av-nathalie-brekka-med-band/3214/
END:VEVENT

END:VCALENDAR