BEGIN:VCALENDAR
VERSION:2.0
PRODID:-//mWEB//NONSGML mWEB//NB
URL:https://www.beroa.no/kalender/ics
X-WR-CALNAME:Berøa Langåker
REFRESH-INTERVAL;VALUE=DURATION:PT6H
X-PUBLISHED-TTL:PT6H    
CALSCALE:GREGORIAN
BEGIN:VEVENT
UID:beroa.no-3215
DTSTAMP:20260420T103919Z
DTSTART:20251123T110000Z
DTEND:20251123T123000Z
URL:https://www.beroa.no/kalender/2025/11/23/mote-tale-av-johan-halsne-tema-hva-himmelen-er-hva-himmelen-skal-bli-lovsangsteamet-blir-med/3215/
CREATED:20250515T163801Z
LAST-MODIFIED:20251119T131221Z
SUMMARY:Møte. Tale av Johan Halsne. Tema: "Hva himmelen er - hva himmelen skal bli". Lovsangsteamet blir med.
DESCRIPTION:\n\nhttps://www.beroa.no/kalender/2025/11/23/mote-tale-av-johan-halsne-tema-hva-himmelen-er-hva-himmelen-skal-bli-lovsangsteamet-blir-med/3215/
END:VEVENT

END:VCALENDAR