BEGIN:VCALENDAR
VERSION:2.0
PRODID:-//mWEB//NONSGML mWEB//NB
URL:https://www.beroa.no/kalender/ics
X-WR-CALNAME:Berøa Langåker
REFRESH-INTERVAL;VALUE=DURATION:PT6H
X-PUBLISHED-TTL:PT6H    
CALSCALE:GREGORIAN
BEGIN:VEVENT
UID:beroa.no-3309
DTSTAMP:20260420T103032Z
DTSTART:20251125T183000Z
DTEND:20251125T200000Z
URL:https://www.beroa.no/kalender/2025/11/25/bonnesamling-hos-henry-langaker/3309/
CREATED:20251001T173010Z
LAST-MODIFIED:20251001T173011Z
SUMMARY:Bønnesamling hos Henry Langåker
DESCRIPTION:\n\nhttps://www.beroa.no/kalender/2025/11/25/bonnesamling-hos-henry-langaker/3309/
END:VEVENT

END:VCALENDAR