BEGIN:VCALENDAR
VERSION:2.0
PRODID:-//mWEB//NONSGML mWEB//NB
URL:https://www.beroa.no/kalender/ics
X-WR-CALNAME:Berøa Langåker
REFRESH-INTERVAL;VALUE=DURATION:PT6H
X-PUBLISHED-TTL:PT6H    
CALSCALE:GREGORIAN
BEGIN:VEVENT
UID:beroa.no-3308
DTSTAMP:20260420T103002Z
DTSTART:20251124T230000Z
DTEND:20251125T225900Z
URL:https://www.beroa.no/kalender/2025/11/25/smak-og-se-pa-beroa/3308/
CREATED:20251001T172944Z
LAST-MODIFIED:20251001T172945Z
SUMMARY:Smak og se på Berøa
DESCRIPTION:\n\nhttps://www.beroa.no/kalender/2025/11/25/smak-og-se-pa-beroa/3308/
X-MICROSOFT-CDO-ALLDAYEVENT:TRUE
END:VEVENT

END:VCALENDAR